BEGIN:VCALENDAR
VERSION:2.0
PRODID:-//ASFER - ECPv6.5.0//NONSGML v1.0//EN
CALSCALE:GREGORIAN
METHOD:PUBLISH
X-WR-CALNAME:ASFER
X-ORIGINAL-URL:https://asfer.msquaredd.com
X-WR-CALDESC:Events for ASFER
REFRESH-INTERVAL;VALUE=DURATION:PT1H
X-Robots-Tag:noindex
X-PUBLISHED-TTL:PT1H
BEGIN:VTIMEZONE
TZID:UTC
BEGIN:STANDARD
TZOFFSETFROM:+0000
TZOFFSETTO:+0000
TZNAME:UTC
DTSTART:20230101T000000
END:STANDARD
END:VTIMEZONE
BEGIN:VEVENT
DTSTART;TZID=UTC:20241128T080000
DTEND;TZID=UTC:20241129T200000
DTSTAMP:20260422T223805
CREATED:20240519T120410Z
LAST-MODIFIED:20240519T120443Z
UID:3302-1732780800-1732910400@asfer.msquaredd.com
SUMMARY:The 18th Annual Conference of Arab Society for Economic Research
DESCRIPTION:The Future of Arab Economies: Imposed Disruptions and Desired Reforms
URL:https://asfer.msquaredd.com/event/the-18th-annual-conference-of-arab-society-for-economic-research/
CATEGORIES:Conferences
END:VEVENT
BEGIN:VEVENT
DTSTART;TZID=UTC:20241128T080000
DTEND;TZID=UTC:20241129T200000
DTSTAMP:20260422T223805
CREATED:20240519T114755Z
LAST-MODIFIED:20240519T120123Z
UID:3295-1732780800-1732910400@asfer.msquaredd.com
SUMMARY:المؤتمر العلمي الثامن عشر للجمعية العربية للبحوث الاقتصادية
DESCRIPTION:The Future of Arab Economies: Imposed Disruptions and Desired Reforms
URL:https://asfer.msquaredd.com/event/%d8%a7%d9%84%d9%85%d8%a4%d8%aa%d9%85%d8%b1-%d8%a7%d9%84%d8%b9%d9%84%d9%85%d9%8a-%d8%a7%d9%84%d8%ab%d8%a7%d9%85%d9%86-%d8%b9%d8%b4%d8%b1-%d9%84%d9%84%d8%ac%d9%85%d8%b9%d9%8a%d8%a9-%d8%a7%d9%84%d8%b9/
CATEGORIES:Conferences
END:VEVENT
BEGIN:VEVENT
DTSTART;VALUE=DATE:20240516
DTEND;VALUE=DATE:20240517
DTSTAMP:20260422T223805
CREATED:20240516T170328Z
LAST-MODIFIED:20240516T170517Z
UID:3279-1715817600-1715903999@asfer.msquaredd.com
SUMMARY:ASFER 18th
DESCRIPTION:The Future of Arab Economies: Imposed Disruptions and Desired Reforms
URL:https://asfer.msquaredd.com/event/asfer-18th/
LOCATION:Test ibrahim\, Madinet Nasr\, Cairo\, Cairo\, Egypt
CATEGORIES:Conferences
ORGANIZER;CN="ASFER":MAILTO:info@asfer.org
END:VEVENT
BEGIN:VEVENT
DTSTART;VALUE=DATE:20231104
DTEND;VALUE=DATE:20231106
DTSTAMP:20260422T223805
CREATED:20230705T123026Z
LAST-MODIFIED:20230927T232205Z
UID:374-1699056000-1699228799@asfer.msquaredd.com
SUMMARY:ASFER's 17th Annual Scientific Conference
DESCRIPTION:The Future of Arab Economies: Imposed Disruptions and Desired Reforms
URL:https://asfer.msquaredd.com/event/annual-scientific-conference/
CATEGORIES:Conferences
ATTACH;FMTTYPE=image/jpeg:https://asfer.msquaredd.com/wp-content/uploads/2023/11/Logo-of-Mohammed-bin-Rashid-School-Government.jpg
ORGANIZER;CN="ASFER":MAILTO:info@asfer.org
END:VEVENT
BEGIN:VEVENT
DTSTART;VALUE=DATE:20231104
DTEND;VALUE=DATE:20231105
DTSTAMP:20260422T223805
CREATED:20230927T195658Z
LAST-MODIFIED:20231122T221143Z
UID:2756-1699056000-1699142399@asfer.msquaredd.com
SUMMARY:المؤتمر العلمي السابع عشر
DESCRIPTION:The Future of Arab Economies: Imposed Disruptions and Desired Reforms
URL:https://asfer.msquaredd.com/event/annual-scientific-conference-ar/
CATEGORIES:Conferences
ATTACH;FMTTYPE=image/jpeg:https://asfer.msquaredd.com/wp-content/uploads/2023/11/Logo-of-Mohammed-bin-Rashid-School-Government.jpg
ORGANIZER;CN="ASFER":MAILTO:info@asfer.org
END:VEVENT
END:VCALENDAR